BEGIN:VCALENDAR
VERSION:2.0
PRODID:-//Center for Black Women’s Wellness - ECPv6.15.20//NONSGML v1.0//EN
CALSCALE:GREGORIAN
METHOD:PUBLISH
X-ORIGINAL-URL:https://www.cbww.org
X-WR-CALDESC:Events for Center for Black Women’s Wellness
REFRESH-INTERVAL;VALUE=DURATION:PT1H
X-Robots-Tag:noindex
X-PUBLISHED-TTL:PT1H
BEGIN:VTIMEZONE
TZID:America/New_York
BEGIN:DAYLIGHT
TZOFFSETFROM:-0500
TZOFFSETTO:-0400
TZNAME:EDT
DTSTART:20210314T070000
END:DAYLIGHT
BEGIN:STANDARD
TZOFFSETFROM:-0400
TZOFFSETTO:-0500
TZNAME:EST
DTSTART:20211107T060000
END:STANDARD
BEGIN:DAYLIGHT
TZOFFSETFROM:-0500
TZOFFSETTO:-0400
TZNAME:EDT
DTSTART:20220313T070000
END:DAYLIGHT
BEGIN:STANDARD
TZOFFSETFROM:-0400
TZOFFSETTO:-0500
TZNAME:EST
DTSTART:20221106T060000
END:STANDARD
BEGIN:DAYLIGHT
TZOFFSETFROM:-0500
TZOFFSETTO:-0400
TZNAME:EDT
DTSTART:20230312T070000
END:DAYLIGHT
BEGIN:STANDARD
TZOFFSETFROM:-0400
TZOFFSETTO:-0500
TZNAME:EST
DTSTART:20231105T060000
END:STANDARD
END:VTIMEZONE
BEGIN:VEVENT
DTSTART;TZID=America/New_York:20220608T080000
DTEND;TZID=America/New_York:20220609T170000
DTSTAMP:20260425T100228
CREATED:20220303T212109Z
LAST-MODIFIED:20220303T212109Z
UID:10000363-1654675200-1654794000@www.cbww.org
SUMMARY:THE 24th ANNUAL INTERNATIONAL FATHERHOOD CONFERENCE
DESCRIPTION:CELEBRATING THE LEGACY AND CONTRIBUTIONS OF WOMEN IN FATHERHOOD: RESEARCH\, POLICY\, AND PRACTICE \nThis year’s program will celebrate 24 years of service and contribution to the fatherhood field. Due to public health concerns\, the event will be virtual for the third year in a row. Top-notch speakers and fatherhood leaders in policy\, research\, and practice will inspire and encourage conference attendees to reach higher heights in our work with fathers and families. \n  \nNotably\, women have played a vital role in advancing the field of responsible fatherhood over the past 24 years. This year the conference will shine the spotlight on women in leadership in the fathers and families work. \nPlease contact tferguson@cbww.org to register 
URL:https://www.cbww.org/event/the-24th-annual-international-fatherhood-conference/
LOCATION:Virtual
END:VEVENT
END:VCALENDAR