BEGIN:VCALENDAR
VERSION:2.0
PRODID:-//Center for Black Women’s Wellness - ECPv6.15.20//NONSGML v1.0//EN
CALSCALE:GREGORIAN
METHOD:PUBLISH
X-WR-CALNAME:Center for Black Women’s Wellness
X-ORIGINAL-URL:https://www.cbww.org
X-WR-CALDESC:Events for Center for Black Women’s Wellness
REFRESH-INTERVAL;VALUE=DURATION:PT1H
X-Robots-Tag:noindex
X-PUBLISHED-TTL:PT1H
BEGIN:VTIMEZONE
TZID:America/New_York
BEGIN:DAYLIGHT
TZOFFSETFROM:-0500
TZOFFSETTO:-0400
TZNAME:EDT
DTSTART:20210314T070000
END:DAYLIGHT
BEGIN:STANDARD
TZOFFSETFROM:-0400
TZOFFSETTO:-0500
TZNAME:EST
DTSTART:20211107T060000
END:STANDARD
BEGIN:DAYLIGHT
TZOFFSETFROM:-0500
TZOFFSETTO:-0400
TZNAME:EDT
DTSTART:20220313T070000
END:DAYLIGHT
BEGIN:STANDARD
TZOFFSETFROM:-0400
TZOFFSETTO:-0500
TZNAME:EST
DTSTART:20221106T060000
END:STANDARD
BEGIN:DAYLIGHT
TZOFFSETFROM:-0500
TZOFFSETTO:-0400
TZNAME:EDT
DTSTART:20230312T070000
END:DAYLIGHT
BEGIN:STANDARD
TZOFFSETFROM:-0400
TZOFFSETTO:-0500
TZNAME:EST
DTSTART:20231105T060000
END:STANDARD
END:VTIMEZONE
BEGIN:VEVENT
DTSTART;TZID=America/New_York:20220608T080000
DTEND;TZID=America/New_York:20220609T170000
DTSTAMP:20260425T111909
CREATED:20220303T212109Z
LAST-MODIFIED:20220303T212109Z
UID:10000363-1654675200-1654794000@www.cbww.org
SUMMARY:THE 24th ANNUAL INTERNATIONAL FATHERHOOD CONFERENCE
DESCRIPTION:CELEBRATING THE LEGACY AND CONTRIBUTIONS OF WOMEN IN FATHERHOOD: RESEARCH\, POLICY\, AND PRACTICE \nThis year’s program will celebrate 24 years of service and contribution to the fatherhood field. Due to public health concerns\, the event will be virtual for the third year in a row. Top-notch speakers and fatherhood leaders in policy\, research\, and practice will inspire and encourage conference attendees to reach higher heights in our work with fathers and families. \n  \nNotably\, women have played a vital role in advancing the field of responsible fatherhood over the past 24 years. This year the conference will shine the spotlight on women in leadership in the fathers and families work. \nPlease contact tferguson@cbww.org to register 
URL:https://www.cbww.org/event/the-24th-annual-international-fatherhood-conference/
LOCATION:Virtual
END:VEVENT
BEGIN:VEVENT
DTSTART;TZID=America/New_York:20220609T090000
DTEND;TZID=America/New_York:20220609T140000
DTSTAMP:20260425T111909
CREATED:20220120T025208Z
LAST-MODIFIED:20220120T025208Z
UID:10000486-1654765200-1654783200@www.cbww.org
SUMMARY:CBWW COVID VACCINATION CLINIC
DESCRIPTION:The Center for Black Women’s Wellness is now offering COVID-19 vaccinations every Thursday\, 9am-2pm. \n** No COVID-19 vaccinations will be held on January 27\, 2022. Will resume February 3\, 2022
URL:https://www.cbww.org/event/cbww-covid-vaccination-clinic/2022-06-09/
LOCATION:CBWW\, 477 Windsor St. SW\, Atlanta\, GA\, 30312\, United States
GEO:33.7411271;-84.3997425
X-APPLE-STRUCTURED-LOCATION;VALUE=URI;X-ADDRESS=CBWW 477 Windsor St. SW Atlanta GA 30312 United States;X-APPLE-RADIUS=500;X-TITLE=477 Windsor St. SW:geo:-84.3997425,33.7411271
END:VEVENT
BEGIN:VEVENT
DTSTART;TZID=America/New_York:20220609T100000
DTEND;TZID=America/New_York:20220609T140000
DTSTAMP:20260425T111909
CREATED:20220208T200041Z
LAST-MODIFIED:20220214T174940Z
UID:10000397-1654768800-1654783200@www.cbww.org
SUMMARY:CBWW Vaccination Clinic
DESCRIPTION:Available to all Fulton County Residents – get a $50 gift card! Offering: \n\nFree covid vaccinations\n1st & 2nd Dose COVID-19 vaccines (Pfizer\, J&J and Moderna)\nPlease call (404) 688-9202 to ensure dates\n\nRequirements: \n\nCurrent resident of Fulton County\nMust provide identification\, when available\nInsurance NOT required\n\nWALK-INS ARE WELCOME!
URL:https://www.cbww.org/event/cbww-vaccination-clinic/2022-06-09/
LOCATION:CBWW\, 477 Windsor St. SW\, Atlanta\, GA\, 30312\, United States
GEO:33.7411271;-84.3997425
X-APPLE-STRUCTURED-LOCATION;VALUE=URI;X-ADDRESS=CBWW 477 Windsor St. SW Atlanta GA 30312 United States;X-APPLE-RADIUS=500;X-TITLE=477 Windsor St. SW:geo:-84.3997425,33.7411271
END:VEVENT
BEGIN:VEVENT
DTSTART;TZID=America/New_York:20220609T120000
DTEND;TZID=America/New_York:20220609T150000
DTSTAMP:20260425T111909
CREATED:20220513T185147Z
LAST-MODIFIED:20220513T185147Z
UID:10000661-1654776000-1654786800@www.cbww.org
SUMMARY:POPS THAT ROCK!
DESCRIPTION:Father’s Day Celebration Luncheon
URL:https://www.cbww.org/event/pops-that-rock/
END:VEVENT
BEGIN:VEVENT
DTSTART;TZID=America/New_York:20220609T180000
DTEND;TZID=America/New_York:20220609T180000
DTSTAMP:20260425T111909
CREATED:20220303T211443Z
LAST-MODIFIED:20220303T211554Z
UID:10000367-1654797600-1654797600@www.cbww.org
SUMMARY:The Club House - Man\, Father Talks
DESCRIPTION:Please contact Trumaine Ferguson tferguson@cbww.org prior in order to be registered \nPlease download and import the following iCalendar (.ics) files to your calendar system. \nMonthly: https://breastfeedingrose-org.zoom.us/meeting/tZ0udOmopj0tE9ciYTvrgWiCNxM-xANBTElh/ics?icsToken=98tyKuGhrTgqGtyTtxCERpx5A4jCc_TxiCFaj_pelSbRFTJUVQrVGPpvf6pePvrk \n  \nJoin Zoom Meeting \nhttps://breastfeedingrose-org.zoom.us/j/89330086793?pwd=RlBTRVY2MHVqWmtGRVREeUdlRlphUT09 \n  \nMeeting ID: 893 3008 6793 \nPasscode: 301701 \nOne tap mobile \n+13126266799\,\,89330086793#\,\,\,\,*301701# US (Chicago) \n+19294362866\,\,89330086793#\,\,\,\,*301701# US (New York) \n  \nDial by your location \n+1 312 626 6799 US (Chicago) \n+1 929 436 2866 US (New York) \n+1 301 715 8592 US (Washington DC) \n+1 346 248 7799 US (Houston) \n+1 669 900 6833 US (San Jose) \n+1 253 215 8782 US (Tacoma) \nMeeting ID: 893 3008 6793 \nPasscode: 301701
URL:https://www.cbww.org/event/the-club-house-man-father-talks/2022-06-09/
LOCATION:Online via Zoom\, United States
END:VEVENT
END:VCALENDAR