BEGIN:VCALENDAR
VERSION:2.0
PRODID:-//Center for Black Women’s Wellness - ECPv6.15.20//NONSGML v1.0//EN
CALSCALE:GREGORIAN
METHOD:PUBLISH
X-ORIGINAL-URL:https://www.cbww.org
X-WR-CALDESC:Events for Center for Black Women’s Wellness
REFRESH-INTERVAL;VALUE=DURATION:PT1H
X-Robots-Tag:noindex
X-PUBLISHED-TTL:PT1H
BEGIN:VTIMEZONE
TZID:America/New_York
BEGIN:DAYLIGHT
TZOFFSETFROM:-0500
TZOFFSETTO:-0400
TZNAME:EDT
DTSTART:20210314T070000
END:DAYLIGHT
BEGIN:STANDARD
TZOFFSETFROM:-0400
TZOFFSETTO:-0500
TZNAME:EST
DTSTART:20211107T060000
END:STANDARD
BEGIN:DAYLIGHT
TZOFFSETFROM:-0500
TZOFFSETTO:-0400
TZNAME:EDT
DTSTART:20220313T070000
END:DAYLIGHT
BEGIN:STANDARD
TZOFFSETFROM:-0400
TZOFFSETTO:-0500
TZNAME:EST
DTSTART:20221106T060000
END:STANDARD
BEGIN:DAYLIGHT
TZOFFSETFROM:-0500
TZOFFSETTO:-0400
TZNAME:EDT
DTSTART:20230312T070000
END:DAYLIGHT
BEGIN:STANDARD
TZOFFSETFROM:-0400
TZOFFSETTO:-0500
TZNAME:EST
DTSTART:20231105T060000
END:STANDARD
END:VTIMEZONE
BEGIN:VEVENT
DTSTART;TZID=America/New_York:20220712T180000
DTEND;TZID=America/New_York:20220712T190000
DTSTAMP:20260423T164103
CREATED:20220303T214850Z
LAST-MODIFIED:20220303T214850Z
UID:10000607-1657648800-1657652400@www.cbww.org
SUMMARY:Sisters with Voices
DESCRIPTION:
URL:https://www.cbww.org/event/sisters-with-voices/2022-07-12/
LOCATION:Online via Zoom\, United States
END:VEVENT
BEGIN:VEVENT
DTSTART;TZID=America/New_York:20220712T180000
DTEND;TZID=America/New_York:20220712T193000
DTSTAMP:20260423T164103
CREATED:20220323T214404Z
LAST-MODIFIED:20220323T214404Z
UID:10000601-1657648800-1657654200@www.cbww.org
SUMMARY:CBWW-AHSI 24/7 DADS Program - Week 12
DESCRIPTION:Week 12        \n24/7 DADS “Understanding and Celebrating Yourself \n24/7 DADS “Growth and Celebration” \nGraduation and Keynote Presenter: TBA  \nThe meeting id is 983 789 2770 \nHere’s the zoom link \nhttps://zoom.us/j/9837892770?pwd=UFhlcVhVK2Yrd0pncnIvZkFqK2NLdz09
URL:https://www.cbww.org/event/cbww-ahsi-24-7-dads-program-week-12/
LOCATION:Virtual
END:VEVENT
END:VCALENDAR