BEGIN:VCALENDAR
VERSION:2.0
PRODID:-//Center for Black Women’s Wellness - ECPv6.15.20//NONSGML v1.0//EN
CALSCALE:GREGORIAN
METHOD:PUBLISH
X-ORIGINAL-URL:https://www.cbww.org
X-WR-CALDESC:Events for Center for Black Women’s Wellness
REFRESH-INTERVAL;VALUE=DURATION:PT1H
X-Robots-Tag:noindex
X-PUBLISHED-TTL:PT1H
BEGIN:VTIMEZONE
TZID:America/New_York
BEGIN:DAYLIGHT
TZOFFSETFROM:-0500
TZOFFSETTO:-0400
TZNAME:EDT
DTSTART:20230312T070000
END:DAYLIGHT
BEGIN:STANDARD
TZOFFSETFROM:-0400
TZOFFSETTO:-0500
TZNAME:EST
DTSTART:20231105T060000
END:STANDARD
BEGIN:DAYLIGHT
TZOFFSETFROM:-0500
TZOFFSETTO:-0400
TZNAME:EDT
DTSTART:20240310T070000
END:DAYLIGHT
BEGIN:STANDARD
TZOFFSETFROM:-0400
TZOFFSETTO:-0500
TZNAME:EST
DTSTART:20241103T060000
END:STANDARD
BEGIN:DAYLIGHT
TZOFFSETFROM:-0500
TZOFFSETTO:-0400
TZNAME:EDT
DTSTART:20250309T070000
END:DAYLIGHT
BEGIN:STANDARD
TZOFFSETFROM:-0400
TZOFFSETTO:-0500
TZNAME:EST
DTSTART:20251102T060000
END:STANDARD
END:VTIMEZONE
BEGIN:VEVENT
DTSTART;TZID=America/New_York:20240829T173000
DTEND;TZID=America/New_York:20240829T203000
DTSTAMP:20260424T034530
CREATED:20240808T180001Z
LAST-MODIFIED:20240823T150439Z
UID:10001147-1724952600-1724963400@www.cbww.org
SUMMARY:INClued: Inclusive Healthcare to Empower LGBTQ+ Youth (Virtual)
DESCRIPTION:Our partners at GCAPP\, or Georgia Campaign for Adolescent Power & Potential\, are hosting a virtual safe space for LGBTQ+ youth and peers to learn from professionals how to avoid STIs and prevent unwanted pregnancy. Use this rich information to educate yourself or to one day help others whether they are part of the LGBTQ+ community or not. Participants receive a $50 gift card! \nRegistration is required. Click here to register to get the Zoom link.  \nQuestions or concerns? Email Gillian at gsmith@cbww.org.
URL:https://www.cbww.org/event/inclued-inclusive-healthcare-to-empower-lgbtq-youth/
CATEGORIES:Classes,Wellness,Workshops
END:VEVENT
END:VCALENDAR