BEGIN:VCALENDAR
VERSION:2.0
PRODID:-//Center for Black Women’s Wellness - ECPv6.15.20//NONSGML v1.0//EN
CALSCALE:GREGORIAN
METHOD:PUBLISH
X-WR-CALNAME:Center for Black Women’s Wellness
X-ORIGINAL-URL:https://www.cbww.org
X-WR-CALDESC:Events for Center for Black Women’s Wellness
REFRESH-INTERVAL;VALUE=DURATION:PT1H
X-Robots-Tag:noindex
X-PUBLISHED-TTL:PT1H
BEGIN:VTIMEZONE
TZID:America/New_York
BEGIN:DAYLIGHT
TZOFFSETFROM:-0500
TZOFFSETTO:-0400
TZNAME:EDT
DTSTART:20240310T070000
END:DAYLIGHT
BEGIN:STANDARD
TZOFFSETFROM:-0400
TZOFFSETTO:-0500
TZNAME:EST
DTSTART:20241103T060000
END:STANDARD
BEGIN:DAYLIGHT
TZOFFSETFROM:-0500
TZOFFSETTO:-0400
TZNAME:EDT
DTSTART:20250309T070000
END:DAYLIGHT
BEGIN:STANDARD
TZOFFSETFROM:-0400
TZOFFSETTO:-0500
TZNAME:EST
DTSTART:20251102T060000
END:STANDARD
BEGIN:DAYLIGHT
TZOFFSETFROM:-0500
TZOFFSETTO:-0400
TZNAME:EDT
DTSTART:20260308T070000
END:DAYLIGHT
BEGIN:STANDARD
TZOFFSETFROM:-0400
TZOFFSETTO:-0500
TZNAME:EST
DTSTART:20261101T060000
END:STANDARD
END:VTIMEZONE
BEGIN:VEVENT
DTSTART;TZID=America/New_York:20250703T183000
DTEND;TZID=America/New_York:20250703T193000
DTSTAMP:20260420T071132
CREATED:20250421T174154Z
LAST-MODIFIED:20250422T135207Z
UID:10001520-1751567400-1751571000@www.cbww.org
SUMMARY:Daddy Olympics
DESCRIPTION:🏅 Daddy Olympics\nThursdays at 7:30 PM on Zoom | Starting April 24\,2025\nDads\, it’s your time to shine! Get hands-on training in:\n👶 Diapering\n🍼 Feeding\n🛏️ Safe Sleep\n🚗 Car Seat Safety—and more! \nThen put your new skills to the test in a fun\, Olympic-style competition with prizes like diapers\, toys\, and baby gear. \n👉 Sign up here \nPlease register and invite your loved ones to do the same!
URL:https://www.cbww.org/event/1879/2025-07-03/
CATEGORIES:Classes,Wellness,Workshops
END:VEVENT
END:VCALENDAR