BEGIN:VCALENDAR
VERSION:2.0
PRODID:-//Center for Black Women’s Wellness - ECPv6.15.20//NONSGML v1.0//EN
CALSCALE:GREGORIAN
METHOD:PUBLISH
X-ORIGINAL-URL:https://www.cbww.org
X-WR-CALDESC:Events for Center for Black Women’s Wellness
REFRESH-INTERVAL;VALUE=DURATION:PT1H
X-Robots-Tag:noindex
X-PUBLISHED-TTL:PT1H
BEGIN:VTIMEZONE
TZID:America/New_York
BEGIN:DAYLIGHT
TZOFFSETFROM:-0500
TZOFFSETTO:-0400
TZNAME:EDT
DTSTART:20240310T070000
END:DAYLIGHT
BEGIN:STANDARD
TZOFFSETFROM:-0400
TZOFFSETTO:-0500
TZNAME:EST
DTSTART:20241103T060000
END:STANDARD
BEGIN:DAYLIGHT
TZOFFSETFROM:-0500
TZOFFSETTO:-0400
TZNAME:EDT
DTSTART:20250309T070000
END:DAYLIGHT
BEGIN:STANDARD
TZOFFSETFROM:-0400
TZOFFSETTO:-0500
TZNAME:EST
DTSTART:20251102T060000
END:STANDARD
BEGIN:DAYLIGHT
TZOFFSETFROM:-0500
TZOFFSETTO:-0400
TZNAME:EDT
DTSTART:20260308T070000
END:DAYLIGHT
BEGIN:STANDARD
TZOFFSETFROM:-0400
TZOFFSETTO:-0500
TZNAME:EST
DTSTART:20261101T060000
END:STANDARD
END:VTIMEZONE
BEGIN:VEVENT
DTSTART;TZID=America/New_York:20250731T170000
DTEND;TZID=America/New_York:20250731T190000
DTSTAMP:20260421T114657
CREATED:20250715T142701Z
LAST-MODIFIED:20250716T160821Z
UID:10001670-1753981200-1753988400@www.cbww.org
SUMMARY:Life be Lifin' Craft Night
DESCRIPTION:Life sometimes goes so fast it is hard to keep up! In honor of BIPOC Mental Health Month\, join us to calm your mind and body with a relaxing craft night at CBWW. Bring your own craft or borrow one from us. \nThe National Alliance on Mental Illness will be joining us to chat about why mindfulness is key! Our friends at Scraplanta will be providing free embroidery kits for up to 20 participants. \nClick here to register. 
URL:https://www.cbww.org/event/life-be-lifin-craft-night/
LOCATION:Center for Black Women’s Wellness\, 477 Windsor St SW\, Atlanta\, GA\, 30312\, United States
CATEGORIES:Celebration,Classes,Wellness,Workshops
GEO:33.7411271;-84.3997425
X-APPLE-STRUCTURED-LOCATION;VALUE=URI;X-ADDRESS=Center for Black Women’s Wellness 477 Windsor St SW Atlanta GA 30312 United States;X-APPLE-RADIUS=500;X-TITLE=477 Windsor St SW:geo:-84.3997425,33.7411271
END:VEVENT
END:VCALENDAR