BEGIN:VCALENDAR
VERSION:2.0
PRODID:-//Center for Black Women’s Wellness - ECPv6.15.20//NONSGML v1.0//EN
CALSCALE:GREGORIAN
METHOD:PUBLISH
X-WR-CALNAME:Center for Black Women’s Wellness
X-ORIGINAL-URL:https://www.cbww.org
X-WR-CALDESC:Events for Center for Black Women’s Wellness
REFRESH-INTERVAL;VALUE=DURATION:PT1H
X-Robots-Tag:noindex
X-PUBLISHED-TTL:PT1H
BEGIN:VTIMEZONE
TZID:America/New_York
BEGIN:DAYLIGHT
TZOFFSETFROM:-0500
TZOFFSETTO:-0400
TZNAME:EDT
DTSTART:20240310T070000
END:DAYLIGHT
BEGIN:STANDARD
TZOFFSETFROM:-0400
TZOFFSETTO:-0500
TZNAME:EST
DTSTART:20241103T060000
END:STANDARD
BEGIN:DAYLIGHT
TZOFFSETFROM:-0500
TZOFFSETTO:-0400
TZNAME:EDT
DTSTART:20250309T070000
END:DAYLIGHT
BEGIN:STANDARD
TZOFFSETFROM:-0400
TZOFFSETTO:-0500
TZNAME:EST
DTSTART:20251102T060000
END:STANDARD
BEGIN:DAYLIGHT
TZOFFSETFROM:-0500
TZOFFSETTO:-0400
TZNAME:EDT
DTSTART:20260308T070000
END:DAYLIGHT
BEGIN:STANDARD
TZOFFSETFROM:-0400
TZOFFSETTO:-0500
TZNAME:EST
DTSTART:20261101T060000
END:STANDARD
END:VTIMEZONE
BEGIN:VEVENT
DTSTART;TZID=America/New_York:20250918T183000
DTEND;TZID=America/New_York:20250918T193000
DTSTAMP:20260423T220345
CREATED:20250918T182258Z
LAST-MODIFIED:20250918T182258Z
UID:10001744-1758220200-1758223800@www.cbww.org
SUMMARY:Health & Wellness Series: Cultivating a Healthy Mind & Body
DESCRIPTION:Join us for a 30-minute strength and flexibility workout followed by our healthy eating tips. Bring your yoga mats and towels for a good time with Coach Brittany\, Coach Yann\, and the CBWW Maternal Health Team. All are welcome. \nClick here to register.  \nDream BIG and dream in COLOR! \n 
URL:https://www.cbww.org/event/health-wellness-series-cultivating-a-healthy-mind-body/2025-09-18/
LOCATION:Martin Luther King Jr. Recreation Center and Aquatic Center\, 110 Hilliard Street SE\, Atlanta\, GA\, 30312\, United States
CATEGORIES:Classes,Wellness,Workshops
END:VEVENT
BEGIN:VEVENT
DTSTART;TZID=America/New_York:20250918T183000
DTEND;TZID=America/New_York:20250918T203000
DTSTAMP:20260423T220345
CREATED:20250812T132658Z
LAST-MODIFIED:20250812T132658Z
UID:10001730-1758220200-1758227400@www.cbww.org
SUMMARY:Lasting Relationships
DESCRIPTION:Learn the keys to strong\, healthy partnerships and play games for free date nights. Then\, stay as dads learn infant care skills. Interested in the Fatherhood Program? Contact Chris\, the Fatherhood Initiative Coordinator\, at (404) 965-4122 or chris@fatherm.org. \nLasting Relationships – 6:30 PM – 7:30 PM \nDaddy Olympics Training – 7:30 PM – 8 :30 PM \nVirtual On Zoom. Click here to register for the Link. 
URL:https://www.cbww.org/event/lasting-relationships-2/2025-09-18/
CATEGORIES:Classes,Wellness,Workshops
END:VEVENT
END:VCALENDAR