BEGIN:VCALENDAR
VERSION:2.0
PRODID:-//Center for Black Women’s Wellness - ECPv6.15.20//NONSGML v1.0//EN
CALSCALE:GREGORIAN
METHOD:PUBLISH
X-WR-CALNAME:Center for Black Women’s Wellness
X-ORIGINAL-URL:https://www.cbww.org
X-WR-CALDESC:Events for Center for Black Women’s Wellness
REFRESH-INTERVAL;VALUE=DURATION:PT1H
X-Robots-Tag:noindex
X-PUBLISHED-TTL:PT1H
BEGIN:VTIMEZONE
TZID:America/New_York
BEGIN:DAYLIGHT
TZOFFSETFROM:-0500
TZOFFSETTO:-0400
TZNAME:EDT
DTSTART:20240310T070000
END:DAYLIGHT
BEGIN:STANDARD
TZOFFSETFROM:-0400
TZOFFSETTO:-0500
TZNAME:EST
DTSTART:20241103T060000
END:STANDARD
BEGIN:DAYLIGHT
TZOFFSETFROM:-0500
TZOFFSETTO:-0400
TZNAME:EDT
DTSTART:20250309T070000
END:DAYLIGHT
BEGIN:STANDARD
TZOFFSETFROM:-0400
TZOFFSETTO:-0500
TZNAME:EST
DTSTART:20251102T060000
END:STANDARD
BEGIN:DAYLIGHT
TZOFFSETFROM:-0500
TZOFFSETTO:-0400
TZNAME:EDT
DTSTART:20260308T070000
END:DAYLIGHT
BEGIN:STANDARD
TZOFFSETFROM:-0400
TZOFFSETTO:-0500
TZNAME:EST
DTSTART:20261101T060000
END:STANDARD
END:VTIMEZONE
BEGIN:VEVENT
DTSTART;TZID=America/New_York:20251014T180000
DTEND;TZID=America/New_York:20251014T190000
DTSTAMP:20260419T080315
CREATED:20240628T183712Z
LAST-MODIFIED:20250409T164256Z
UID:10000898-1760464800-1760468400@www.cbww.org
SUMMARY:Empowerment Through Education
DESCRIPTION:Join this FREE weekly class to learn how to prepare for your new baby. CBWW Nurse Amy leads this open discussion with a new topic each week– from managing pregnancy\, preparing for delivery\, to postpartum care for both mom and baby. \nRegistration is not required. \nClick here to join the Zoom Meeting. 
URL:https://www.cbww.org/event/empowerment-through-education/2025-10-14/
CATEGORIES:Classes,Wellness,Workshops
ATTACH;FMTTYPE=image/jpeg:https://www.cbww.org/wp-content/uploads/2024/06/E2E-Updated-Flyer-11.4.22-pdf.jpg
END:VEVENT
BEGIN:VEVENT
DTSTART;TZID=America/New_York:20251014T180000
DTEND;TZID=America/New_York:20251014T190000
DTSTAMP:20260419T080315
CREATED:20250908T144906Z
LAST-MODIFIED:20250924T130026Z
UID:10001737-1760464800-1760468400@www.cbww.org
SUMMARY:PINK OUT Zumba & Dance Party
DESCRIPTION:Join s to step for survivors and feel alive at this Zumba dance party! Giveaways and resources for chronic disease management and mental health will be provided along with referral for free mammograms. Healthy snacks and refreshments will be provided. Take care of your body and your mind will thank you! Hosted by CBWW’s Breast and Cervical Cancer Program. \nClick here to register. \nCBWW offers free screening mammograms\, breast exams\, and pap smears to anyone 18+ without health insurance. Submit an Appointment Request here. 
URL:https://www.cbww.org/event/pink-out-zumba-dance-party/
LOCATION:Dunbar Neighborhood Center\, 477 Windsor Street SW Atlanta\, GA 30312
CATEGORIES:Celebration,Wellness,Workshops
END:VEVENT
END:VCALENDAR