BEGIN:VCALENDAR
VERSION:2.0
PRODID:-//Center for Black Women’s Wellness - ECPv6.15.20//NONSGML v1.0//EN
CALSCALE:GREGORIAN
METHOD:PUBLISH
X-ORIGINAL-URL:https://www.cbww.org
X-WR-CALDESC:Events for Center for Black Women’s Wellness
REFRESH-INTERVAL;VALUE=DURATION:PT1H
X-Robots-Tag:noindex
X-PUBLISHED-TTL:PT1H
BEGIN:VTIMEZONE
TZID:America/New_York
BEGIN:DAYLIGHT
TZOFFSETFROM:-0500
TZOFFSETTO:-0400
TZNAME:EDT
DTSTART:20250309T070000
END:DAYLIGHT
BEGIN:STANDARD
TZOFFSETFROM:-0400
TZOFFSETTO:-0500
TZNAME:EST
DTSTART:20251102T060000
END:STANDARD
BEGIN:DAYLIGHT
TZOFFSETFROM:-0500
TZOFFSETTO:-0400
TZNAME:EDT
DTSTART:20260308T070000
END:DAYLIGHT
BEGIN:STANDARD
TZOFFSETFROM:-0400
TZOFFSETTO:-0500
TZNAME:EST
DTSTART:20261101T060000
END:STANDARD
BEGIN:DAYLIGHT
TZOFFSETFROM:-0500
TZOFFSETTO:-0400
TZNAME:EDT
DTSTART:20270314T070000
END:DAYLIGHT
BEGIN:STANDARD
TZOFFSETFROM:-0400
TZOFFSETTO:-0500
TZNAME:EST
DTSTART:20271107T060000
END:STANDARD
END:VTIMEZONE
BEGIN:VEVENT
DTSTART;TZID=America/New_York:20260326T180000
DTEND;TZID=America/New_York:20260326T190000
DTSTAMP:20260420T102032
CREATED:20260309T180741Z
LAST-MODIFIED:20260312T172543Z
UID:10001820-1774548000-1774551600@www.cbww.org
SUMMARY:Daddy Olympics
DESCRIPTION:Daddy Olympics is a thrilling and rewarding program designed to equip fathers with essential infant care skills through 3 virtual training sessions and one in-person\, hands-on training and friendly competition. \nClick here to register. 
URL:https://www.cbww.org/event/daddy-olympics-2/2026-03-26/
CATEGORIES:Classes,Wellness,Workshops
END:VEVENT
END:VCALENDAR